BEGIN:VCALENDAR
VERSION:2.0
PRODID:-//Fairview Township - ECPv6.15.16//NONSGML v1.0//EN
CALSCALE:GREGORIAN
METHOD:PUBLISH
X-ORIGINAL-URL:https://twp.fairview.pa.us
X-WR-CALDESC:Events for Fairview Township
REFRESH-INTERVAL;VALUE=DURATION:PT1H
X-Robots-Tag:noindex
X-PUBLISHED-TTL:PT1H
BEGIN:VTIMEZONE
TZID:America/New_York
BEGIN:DAYLIGHT
TZOFFSETFROM:-0500
TZOFFSETTO:-0400
TZNAME:EDT
DTSTART:20240310T070000
END:DAYLIGHT
BEGIN:STANDARD
TZOFFSETFROM:-0400
TZOFFSETTO:-0500
TZNAME:EST
DTSTART:20241103T060000
END:STANDARD
BEGIN:DAYLIGHT
TZOFFSETFROM:-0500
TZOFFSETTO:-0400
TZNAME:EDT
DTSTART:20250309T070000
END:DAYLIGHT
BEGIN:STANDARD
TZOFFSETFROM:-0400
TZOFFSETTO:-0500
TZNAME:EST
DTSTART:20251102T060000
END:STANDARD
BEGIN:DAYLIGHT
TZOFFSETFROM:-0500
TZOFFSETTO:-0400
TZNAME:EDT
DTSTART:20260308T070000
END:DAYLIGHT
BEGIN:STANDARD
TZOFFSETFROM:-0400
TZOFFSETTO:-0500
TZNAME:EST
DTSTART:20261101T060000
END:STANDARD
BEGIN:DAYLIGHT
TZOFFSETFROM:-0500
TZOFFSETTO:-0400
TZNAME:EDT
DTSTART:20270314T070000
END:DAYLIGHT
BEGIN:STANDARD
TZOFFSETFROM:-0400
TZOFFSETTO:-0500
TZNAME:EST
DTSTART:20271107T060000
END:STANDARD
END:VTIMEZONE
BEGIN:VEVENT
DTSTART;TZID=America/New_York:20260105T180000
DTEND;TZID=America/New_York:20260105T180000
DTSTAMP:20260424T205514
CREATED:20251110T172724Z
LAST-MODIFIED:20251110T172724Z
UID:4535-1767636000-1767636000@twp.fairview.pa.us
SUMMARY:Board of Supervisors Reorganization Meeting
DESCRIPTION:Board of Supervisors Re-Organization Meeting- Starts at 6:00pm
URL:https://twp.fairview.pa.us/event/board-of-supervisors-reorganization-meeting/
ATTACH;FMTTYPE=image/png:https://twp.fairview.pa.us/wp-content/uploads/2025/11/logo_2025_F8F8FF.png
END:VEVENT
BEGIN:VEVENT
DTSTART;VALUE=DATE:20260101
DTEND;VALUE=DATE:20260102
DTSTAMP:20260424T205514
CREATED:20251110T172539Z
LAST-MODIFIED:20251110T172539Z
UID:4533-1767225600-1767311999@twp.fairview.pa.us
SUMMARY:Building Closed for New Year's Day
DESCRIPTION:Offices are closed for New Year’s Day.
URL:https://twp.fairview.pa.us/event/building-closed-for-new-years-day/
ATTACH;FMTTYPE=image/png:https://twp.fairview.pa.us/wp-content/uploads/2025/11/logo_2025_F8F8FF.png
END:VEVENT
BEGIN:VEVENT
DTSTART;VALUE=DATE:20251225
DTEND;VALUE=DATE:20251227
DTSTAMP:20260424T205514
CREATED:20251110T172447Z
LAST-MODIFIED:20251110T172447Z
UID:4531-1766620800-1766793599@twp.fairview.pa.us
SUMMARY:Building Closed for Christmas
DESCRIPTION:Bldg. Closed for Christmas
URL:https://twp.fairview.pa.us/event/building-closed-for-christmas/
ATTACH;FMTTYPE=image/png:https://twp.fairview.pa.us/wp-content/uploads/2025/11/logo_2025_F8F8FF.png
END:VEVENT
BEGIN:VEVENT
DTSTART;TZID=America/New_York:20251223T093000
DTEND;TZID=America/New_York:20251223T213000
DTSTAMP:20260424T205514
CREATED:20251110T172329Z
LAST-MODIFIED:20251110T172342Z
UID:4528-1766482200-1766525400@twp.fairview.pa.us
SUMMARY:Planning Commission Workshop Meeting
DESCRIPTION:PLANNING COMMISSION WORKSHOP MEETING STARTS AT 9:30AM
URL:https://twp.fairview.pa.us/event/planning-commission-workshop-meeting-3/
ATTACH;FMTTYPE=image/png:https://twp.fairview.pa.us/wp-content/uploads/2025/11/logo_2025_F8F8FF.png
END:VEVENT
BEGIN:VEVENT
DTSTART;TZID=America/New_York:20251218T180000
DTEND;TZID=America/New_York:20251218T180000
DTSTAMP:20260424T205514
CREATED:20251110T172230Z
LAST-MODIFIED:20251110T172230Z
UID:4526-1766080800-1766080800@twp.fairview.pa.us
SUMMARY:Zoning Hearing Board Meeting
DESCRIPTION:ZONING HEARING BOARD MEETING STARTS AT 6:00PM
URL:https://twp.fairview.pa.us/event/zoning-hearing-board-meeting-2/
ATTACH;FMTTYPE=image/png:https://twp.fairview.pa.us/wp-content/uploads/2025/11/logo_2025_F8F8FF.png
END:VEVENT
BEGIN:VEVENT
DTSTART;TZID=America/New_York:20251215T183000
DTEND;TZID=America/New_York:20251215T183000
DTSTAMP:20260424T205514
CREATED:20251110T172113Z
LAST-MODIFIED:20251110T172116Z
UID:4524-1765823400-1765823400@twp.fairview.pa.us
SUMMARY:Recreation Commission Meeting
DESCRIPTION:
URL:https://twp.fairview.pa.us/event/recreation-commission-meeting-3/
ATTACH;FMTTYPE=image/png:https://twp.fairview.pa.us/wp-content/uploads/2025/11/logo_2025_F8F8FF.png
END:VEVENT
BEGIN:VEVENT
DTSTART;TZID=America/New_York:20251208T190000
DTEND;TZID=America/New_York:20251208T190000
DTSTAMP:20260424T205514
CREATED:20251110T171848Z
LAST-MODIFIED:20251110T172001Z
UID:4520-1765220400-1765220400@twp.fairview.pa.us
SUMMARY:Board of Supervisors Meeting (Rescheduled from 11/24)
DESCRIPTION:
URL:https://twp.fairview.pa.us/event/board-of-supervisors-meeting-rescheduled-from-11-24/
ATTACH;FMTTYPE=image/png:https://twp.fairview.pa.us/wp-content/uploads/2025/11/logo_2025_F8F8FF.png
END:VEVENT
BEGIN:VEVENT
DTSTART;TZID=America/New_York:20251202T180000
DTEND;TZID=America/New_York:20251202T180000
DTSTAMP:20260424T205514
CREATED:20251110T170653Z
LAST-MODIFIED:20251110T170715Z
UID:4518-1764698400-1764698400@twp.fairview.pa.us
SUMMARY:Planning Commission Meeting
DESCRIPTION:PLANNING COMMISSION MEETING STARTS AT 6:00PM
URL:https://twp.fairview.pa.us/event/planning-commission-meeting-4/
ATTACH;FMTTYPE=image/png:https://twp.fairview.pa.us/wp-content/uploads/2025/11/logo_2025_F8F8FF.png
END:VEVENT
BEGIN:VEVENT
DTSTART;VALUE=DATE:20251127
DTEND;VALUE=DATE:20251129
DTSTAMP:20260424T205514
CREATED:20251110T170449Z
LAST-MODIFIED:20251110T170533Z
UID:4516-1764201600-1764374399@twp.fairview.pa.us
SUMMARY:Building Closed for Thanksgiving
DESCRIPTION:Bldg. Closed for Thanksgiving
URL:https://twp.fairview.pa.us/event/building-closed-for-thanksgiving/
ATTACH;FMTTYPE=image/png:https://twp.fairview.pa.us/wp-content/uploads/2025/11/logo_2025_F8F8FF.png
END:VEVENT
BEGIN:VEVENT
DTSTART;TZID=America/New_York:20251118T093000
DTEND;TZID=America/New_York:20251118T093000
DTSTAMP:20260424T205514
CREATED:20251110T170151Z
LAST-MODIFIED:20251110T170206Z
UID:4514-1763458200-1763458200@twp.fairview.pa.us
SUMMARY:Planning Commission Workshop Meeting
DESCRIPTION:PLANNING COMMISSION WORKSHOP MEETING STARTS AT 9:30AM
URL:https://twp.fairview.pa.us/event/planning-commission-workshop-meeting-2/
ATTACH;FMTTYPE=image/png:https://twp.fairview.pa.us/wp-content/uploads/2025/11/logo_2025_F8F8FF.png
END:VEVENT
BEGIN:VEVENT
DTSTART;TZID=America/New_York:20251117T183000
DTEND;TZID=America/New_York:20251117T183000
DTSTAMP:20260424T205514
CREATED:20251110T165938Z
LAST-MODIFIED:20251110T170235Z
UID:4512-1763404200-1763404200@twp.fairview.pa.us
SUMMARY:Recreation Commission Meeting
DESCRIPTION:RECREATION COMMISSION MEETING STARTS AT 6:30PM
URL:https://twp.fairview.pa.us/event/recreation-commission-meeting-2/
ATTACH;FMTTYPE=image/png:https://twp.fairview.pa.us/wp-content/uploads/2025/11/logo_2025_F8F8FF.png
END:VEVENT
BEGIN:VEVENT
DTSTART;VALUE=DATE:20251111
DTEND;VALUE=DATE:20251112
DTSTAMP:20260424T205514
CREATED:20251110T165821Z
LAST-MODIFIED:20251110T165821Z
UID:4510-1762819200-1762905599@twp.fairview.pa.us
SUMMARY:Building Closed for Veteran's Day
DESCRIPTION:Bldg. Closed for Veterans’ Day
URL:https://twp.fairview.pa.us/event/building-closed-for-veterans-day/
ATTACH;FMTTYPE=image/png:https://twp.fairview.pa.us/wp-content/uploads/2025/11/logo_2025_F8F8FF.png
END:VEVENT
BEGIN:VEVENT
DTSTART;TZID=America/New_York:20251105T180000
DTEND;TZID=America/New_York:20251105T180000
DTSTAMP:20260424T205514
CREATED:20251110T165714Z
LAST-MODIFIED:20251110T170249Z
UID:4508-1762365600-1762365600@twp.fairview.pa.us
SUMMARY:Planning Commission Meeting
DESCRIPTION:****MOVED DUE TO ELECTION DAY
URL:https://twp.fairview.pa.us/event/planning-commission-meeting-3/
ATTACH;FMTTYPE=image/png:https://twp.fairview.pa.us/wp-content/uploads/2025/11/logo_2025_F8F8FF.png
END:VEVENT
BEGIN:VEVENT
DTSTART;VALUE=DATE:20251104
DTEND;VALUE=DATE:20251105
DTSTAMP:20260424T205514
CREATED:20251110T141516Z
LAST-MODIFIED:20251110T181330Z
UID:4460-1762214400-1762300799@twp.fairview.pa.us
SUMMARY:Building Closed for Election day
DESCRIPTION:Vestibulum id maximus mi\, id fermentum dui. Sed quis lacus eu nisl tempus euismod. Aliquam erat volutpat. Donec purus lorem\, ornare sit amet dui sed\, maximus consequat ipsum. Duis feugiat\, lacus sed lacinia condimentum\, sem tellus vehicula lectus\, id varius dui mi at dui. Maecenas nisi nisi\, semper ut pharetra ac\, venenatis sit amet purus. Donec ut tortor ut mauris aliquam fringilla. \nNulla sed tortor vel nunc ultrices interdum. Aliquam in neque nibh. Aliquam eget orci et ex tristique egestas. Morbi sit amet libero in mi molestie commodo in quis metus. Maecenas tristique gravida vehicula. Maecenas euismod risus id risus aliquet\, eu auctor neque interdum. Pellentesque a pellentesque nunc. Donec a finibus erat. Quisque ac risus vel est malesuada blandit id quis erat. Nunc volutpat ante sollicitudin\, efficitur tortor et\, pellentesque mauris.
URL:https://twp.fairview.pa.us/event/building-closed-for-election-day/
ATTACH;FMTTYPE=image/png:https://twp.fairview.pa.us/wp-content/uploads/2025/11/logo_2025_F8F8FF.png
END:VEVENT
BEGIN:VEVENT
DTSTART;VALUE=DATE:20251013
DTEND;VALUE=DATE:20251014
DTSTAMP:20260424T205514
CREATED:20250903T181048Z
LAST-MODIFIED:20250903T181048Z
UID:1169-1760313600-1760399999@twp.fairview.pa.us
SUMMARY:Building Closed for Columbus Day
DESCRIPTION:
URL:https://twp.fairview.pa.us/event/building-closed-for-columbus-day/
ATTACH;FMTTYPE=image/png:https://twp.fairview.pa.us/wp-content/uploads/2025/11/logo_2025_F8F8FF.png
END:VEVENT
BEGIN:VEVENT
DTSTART;TZID=America/New_York:20251007T180000
DTEND;TZID=America/New_York:20251007T200000
DTSTAMP:20260424T205514
CREATED:20250903T180815Z
LAST-MODIFIED:20250903T180815Z
UID:1167-1759860000-1759867200@twp.fairview.pa.us
SUMMARY:Planning Commission Meeting
DESCRIPTION:
URL:https://twp.fairview.pa.us/event/planning-commission-meeting-2/
ATTACH;FMTTYPE=image/png:https://twp.fairview.pa.us/wp-content/uploads/2025/11/logo_2025_F8F8FF.png
END:VEVENT
BEGIN:VEVENT
DTSTART;TZID=America/New_York:20250929T190000
DTEND;TZID=America/New_York:20250929T210000
DTSTAMP:20260424T205514
CREATED:20250903T180716Z
LAST-MODIFIED:20250903T180716Z
UID:1165-1759172400-1759179600@twp.fairview.pa.us
SUMMARY:Board of Supervisors Meeting
DESCRIPTION:
URL:https://twp.fairview.pa.us/event/board-of-supervisors-meeting-2/
ATTACH;FMTTYPE=image/png:https://twp.fairview.pa.us/wp-content/uploads/2025/11/logo_2025_F8F8FF.png
END:VEVENT
BEGIN:VEVENT
DTSTART;TZID=America/New_York:20250923T093000
DTEND;TZID=America/New_York:20250923T230000
DTSTAMP:20260424T205514
CREATED:20250903T180610Z
LAST-MODIFIED:20250903T180610Z
UID:1163-1758619800-1758668400@twp.fairview.pa.us
SUMMARY:Planning Commission Workshop Meeting
DESCRIPTION:
URL:https://twp.fairview.pa.us/event/planning-commission-workshop-meeting/
ATTACH;FMTTYPE=image/png:https://twp.fairview.pa.us/wp-content/uploads/2025/11/logo_2025_F8F8FF.png
END:VEVENT
BEGIN:VEVENT
DTSTART;TZID=America/New_York:20250918T180000
DTEND;TZID=America/New_York:20250918T200000
DTSTAMP:20260424T205514
CREATED:20250903T175846Z
LAST-MODIFIED:20250903T180400Z
UID:1157-1758218400-1758225600@twp.fairview.pa.us
SUMMARY:Zoning Hearing Board Meeting
DESCRIPTION:ZHB Docket 2025-05: Unger / Moores Mountain Road\nZHB Docket 2025-06: PHP New Cumberland LP / 148 Sheraton Drive
URL:https://twp.fairview.pa.us/event/zoning-hearing-board-meeting/
ATTACH;FMTTYPE=image/png:https://twp.fairview.pa.us/wp-content/uploads/2025/11/logo_2025_F8F8FF.png
END:VEVENT
BEGIN:VEVENT
DTSTART;TZID=America/New_York:20250915T183000
DTEND;TZID=America/New_York:20250915T200000
DTSTAMP:20260424T205514
CREATED:20250903T175711Z
LAST-MODIFIED:20250903T175711Z
UID:1155-1757961000-1757966400@twp.fairview.pa.us
SUMMARY:Recreation Commission Meeting
DESCRIPTION:
URL:https://twp.fairview.pa.us/event/recreation-commission-meeting/
ATTACH;FMTTYPE=image/png:https://twp.fairview.pa.us/wp-content/uploads/2025/11/logo_2025_F8F8FF.png
END:VEVENT
BEGIN:VEVENT
DTSTART;TZID=America/New_York:20250902T180000
DTEND;TZID=America/New_York:20250902T190000
DTSTAMP:20260424T205514
CREATED:20250820T190135Z
LAST-MODIFIED:20250820T190135Z
UID:869-1756836000-1756839600@twp.fairview.pa.us
SUMMARY:Planning Commission Meeting
DESCRIPTION:
URL:https://twp.fairview.pa.us/event/planning-commission-meeting/
ATTACH;FMTTYPE=image/png:https://twp.fairview.pa.us/wp-content/uploads/2025/11/logo_2025_F8F8FF.png
END:VEVENT
BEGIN:VEVENT
DTSTART;VALUE=DATE:20250901
DTEND;VALUE=DATE:20250902
DTSTAMP:20260424T205514
CREATED:20250820T190035Z
LAST-MODIFIED:20250820T190035Z
UID:867-1756684800-1756771199@twp.fairview.pa.us
SUMMARY:Municipal Building Closed for Labor Day
DESCRIPTION:
URL:https://twp.fairview.pa.us/event/municipal-building-closed-for-labor-day/
ATTACH;FMTTYPE=image/png:https://twp.fairview.pa.us/wp-content/uploads/2025/11/logo_2025_F8F8FF.png
END:VEVENT
BEGIN:VEVENT
DTSTART;TZID=America/New_York:20250825T190000
DTEND;TZID=America/New_York:20250825T200000
DTSTAMP:20260424T205514
CREATED:20250820T181142Z
LAST-MODIFIED:20250820T181142Z
UID:858-1756148400-1756152000@twp.fairview.pa.us
SUMMARY:Board of Supervisors Meeting
DESCRIPTION:
URL:https://twp.fairview.pa.us/event/board-of-supervisors-meeting/
ATTACH;FMTTYPE=image/png:https://twp.fairview.pa.us/wp-content/uploads/2025/11/logo_2025_F8F8FF.png
END:VEVENT
END:VCALENDAR