BEGIN:VCALENDAR
VERSION:2.0
PRODID:-//Fairview Township - ECPv6.15.16//NONSGML v1.0//EN
CALSCALE:GREGORIAN
METHOD:PUBLISH
X-WR-CALNAME:Fairview Township
X-ORIGINAL-URL:https://twp.fairview.pa.us
X-WR-CALDESC:Events for Fairview Township
REFRESH-INTERVAL;VALUE=DURATION:PT1H
X-Robots-Tag:noindex
X-PUBLISHED-TTL:PT1H
BEGIN:VTIMEZONE
TZID:America/New_York
BEGIN:DAYLIGHT
TZOFFSETFROM:-0500
TZOFFSETTO:-0400
TZNAME:EDT
DTSTART:20250309T070000
END:DAYLIGHT
BEGIN:STANDARD
TZOFFSETFROM:-0400
TZOFFSETTO:-0500
TZNAME:EST
DTSTART:20251102T060000
END:STANDARD
BEGIN:DAYLIGHT
TZOFFSETFROM:-0500
TZOFFSETTO:-0400
TZNAME:EDT
DTSTART:20260308T070000
END:DAYLIGHT
BEGIN:STANDARD
TZOFFSETFROM:-0400
TZOFFSETTO:-0500
TZNAME:EST
DTSTART:20261101T060000
END:STANDARD
BEGIN:DAYLIGHT
TZOFFSETFROM:-0500
TZOFFSETTO:-0400
TZNAME:EDT
DTSTART:20270314T070000
END:DAYLIGHT
BEGIN:STANDARD
TZOFFSETFROM:-0400
TZOFFSETTO:-0500
TZNAME:EST
DTSTART:20271107T060000
END:STANDARD
END:VTIMEZONE
BEGIN:VEVENT
DTSTART;TZID=America/New_York:20260427T180000
DTEND;TZID=America/New_York:20260427T180000
DTSTAMP:20260424T060336
CREATED:20251110T173838Z
LAST-MODIFIED:20251110T173838Z
UID:4549-1777312800-1777312800@twp.fairview.pa.us
SUMMARY:Board of Supervisors Meeting
DESCRIPTION:Board of Supervisors Meeting- Starts at 6:00pm
URL:https://twp.fairview.pa.us/event/board-of-supervisors-meeting-6/
ATTACH;FMTTYPE=image/png:https://twp.fairview.pa.us/wp-content/uploads/2025/11/logo_2025_F8F8FF.png
END:VEVENT
BEGIN:VEVENT
DTSTART;TZID=America/New_York:20260505T180000
DTEND;TZID=America/New_York:20260505T180000
DTSTAMP:20260424T060336
CREATED:20251223T153926Z
LAST-MODIFIED:20251223T153926Z
UID:5580-1778004000-1778004000@twp.fairview.pa.us
SUMMARY:Planning Commission Meeting
DESCRIPTION:Planning Commission Meeting starts at 6:00pm.
URL:https://twp.fairview.pa.us/event/planning-commission-meeting-8/
ATTACH;FMTTYPE=image/png:https://twp.fairview.pa.us/wp-content/uploads/2025/11/logo_2025_F8F8FF.png
END:VEVENT
BEGIN:VEVENT
DTSTART;TZID=America/New_York:20260518T183000
DTEND;TZID=America/New_York:20260518T183000
DTSTAMP:20260424T060336
CREATED:20260115T210327Z
LAST-MODIFIED:20260119T162635Z
UID:5695-1779129000-1779129000@twp.fairview.pa.us
SUMMARY:Recreation Meeting
DESCRIPTION:Recreation Meeting starts at 6:30pm.
URL:https://twp.fairview.pa.us/event/recreation-meeting-5/
ATTACH;FMTTYPE=image/png:https://twp.fairview.pa.us/wp-content/uploads/2025/11/logo_2025_F8F8FF.png
END:VEVENT
BEGIN:VEVENT
DTSTART;VALUE=DATE:20260519
DTEND;VALUE=DATE:20260520
DTSTAMP:20260424T060336
CREATED:20260410T140817Z
LAST-MODIFIED:20260410T141010Z
UID:6250-1779148800-1779235199@twp.fairview.pa.us
SUMMARY:Closed-Primary Election Day
DESCRIPTION:Township Offices will be closed for Primary Election Day. Building will be open for Voting – District #2
URL:https://twp.fairview.pa.us/event/primary-election-day/
ATTACH;FMTTYPE=image/png:https://twp.fairview.pa.us/wp-content/uploads/2025/11/logo_2025_F8F8FF.png
END:VEVENT
BEGIN:VEVENT
DTSTART;TZID=America/New_York:20260520T093000
DTEND;TZID=America/New_York:20260520T093000
DTSTAMP:20260424T060336
CREATED:20251223T154449Z
LAST-MODIFIED:20251223T154449Z
UID:5582-1779269400-1779269400@twp.fairview.pa.us
SUMMARY:Planning Commission Workshop Meeting
DESCRIPTION:Planning Commission Workshop Meeting starts at 9:30am.
URL:https://twp.fairview.pa.us/event/planning-commission-workshop-meeting-8/
ATTACH;FMTTYPE=image/png:https://twp.fairview.pa.us/wp-content/uploads/2025/11/logo_2025_F8F8FF.png
END:VEVENT
BEGIN:VEVENT
DTSTART;TZID=America/New_York:20260521T180000
DTEND;TZID=America/New_York:20260521T180000
DTSTAMP:20260424T060336
CREATED:20251223T154533Z
LAST-MODIFIED:20251223T154533Z
UID:5584-1779386400-1779386400@twp.fairview.pa.us
SUMMARY:Zoning Hearing Board Meeting
DESCRIPTION:Zoning Hearing Board Meeting starts at 6:00pm.
URL:https://twp.fairview.pa.us/event/zoning-hearing-board-meeting-7/
ATTACH;FMTTYPE=image/png:https://twp.fairview.pa.us/wp-content/uploads/2025/11/logo_2025_F8F8FF.png
END:VEVENT
BEGIN:VEVENT
DTSTART;VALUE=DATE:20260525
DTEND;VALUE=DATE:20260526
DTSTAMP:20260424T060336
CREATED:20260410T141103Z
LAST-MODIFIED:20260410T141103Z
UID:6253-1779667200-1779753599@twp.fairview.pa.us
SUMMARY:Closed-Memorial Day
DESCRIPTION:Township Offices are closed for Memorial Day.
URL:https://twp.fairview.pa.us/event/closed-memorial-day/
ATTACH;FMTTYPE=image/png:https://twp.fairview.pa.us/wp-content/uploads/2025/11/logo_2025_F8F8FF.png
END:VEVENT
BEGIN:VEVENT
DTSTART;TZID=America/New_York:20260601T180000
DTEND;TZID=America/New_York:20260601T180000
DTSTAMP:20260424T060336
CREATED:20251110T174020Z
LAST-MODIFIED:20251230T194039Z
UID:4551-1780336800-1780336800@twp.fairview.pa.us
SUMMARY:Board of Supervisors Meeting (Rescheduled from 5/25/26)
DESCRIPTION:Board of Supervisors Meeting – Starts at 6:00pm
URL:https://twp.fairview.pa.us/event/board-of-supervisors-meeting-rescheduled-from-5-25-26/
ATTACH;FMTTYPE=image/png:https://twp.fairview.pa.us/wp-content/uploads/2025/11/logo_2025_F8F8FF.png
END:VEVENT
BEGIN:VEVENT
DTSTART;TZID=America/New_York:20260602T180000
DTEND;TZID=America/New_York:20260602T180000
DTSTAMP:20260424T060336
CREATED:20251223T154713Z
LAST-MODIFIED:20251223T154713Z
UID:5586-1780423200-1780423200@twp.fairview.pa.us
SUMMARY:Planning Commission Meeting
DESCRIPTION:Planning Commission Meeting starts at 6:00pm.
URL:https://twp.fairview.pa.us/event/planning-commission-meeting-9/
ATTACH;FMTTYPE=image/png:https://twp.fairview.pa.us/wp-content/uploads/2025/11/logo_2025_F8F8FF.png
END:VEVENT
BEGIN:VEVENT
DTSTART;TZID=America/New_York:20260615T183000
DTEND;TZID=America/New_York:20260615T183000
DTSTAMP:20260424T060336
CREATED:20260115T210355Z
LAST-MODIFIED:20260119T162754Z
UID:5697-1781548200-1781548200@twp.fairview.pa.us
SUMMARY:Recreation Meeting
DESCRIPTION:Recreation Meeting starts at 6:30pm.
URL:https://twp.fairview.pa.us/event/recreation-meeting-6/
ATTACH;FMTTYPE=image/png:https://twp.fairview.pa.us/wp-content/uploads/2025/11/logo_2025_F8F8FF.png
END:VEVENT
BEGIN:VEVENT
DTSTART;TZID=America/New_York:20260618T180000
DTEND;TZID=America/New_York:20260618T180000
DTSTAMP:20260424T060336
CREATED:20251223T154859Z
LAST-MODIFIED:20251223T154859Z
UID:5590-1781805600-1781805600@twp.fairview.pa.us
SUMMARY:Zoning Hearing Board Meeting
DESCRIPTION:Zoning Hearing Board Meeting starts at 6:00pm.
URL:https://twp.fairview.pa.us/event/zoning-hearing-board-meeting-8/
ATTACH;FMTTYPE=image/png:https://twp.fairview.pa.us/wp-content/uploads/2025/11/logo_2025_F8F8FF.png
END:VEVENT
BEGIN:VEVENT
DTSTART;TZID=America/New_York:20260623T093000
DTEND;TZID=America/New_York:20260623T093000
DTSTAMP:20260424T060336
CREATED:20251223T154812Z
LAST-MODIFIED:20251223T154812Z
UID:5588-1782207000-1782207000@twp.fairview.pa.us
SUMMARY:Planning Commission Workshop Meeting
DESCRIPTION:Planning Commission Workshop Meeting starts at 9:30am.
URL:https://twp.fairview.pa.us/event/planning-commission-workshop-meeting-9/
ATTACH;FMTTYPE=image/png:https://twp.fairview.pa.us/wp-content/uploads/2025/11/logo_2025_F8F8FF.png
END:VEVENT
BEGIN:VEVENT
DTSTART;TZID=America/New_York:20260629T180000
DTEND;TZID=America/New_York:20260629T180000
DTSTAMP:20260424T060336
CREATED:20251110T174124Z
LAST-MODIFIED:20251110T174124Z
UID:4553-1782756000-1782756000@twp.fairview.pa.us
SUMMARY:Board of Supervisors Meeting
DESCRIPTION:Board of Supervisors Meeting – Starts at 6:00pm
URL:https://twp.fairview.pa.us/event/board-of-supervisors-meeting-7/
ATTACH;FMTTYPE=image/png:https://twp.fairview.pa.us/wp-content/uploads/2025/11/logo_2025_F8F8FF.png
END:VEVENT
BEGIN:VEVENT
DTSTART;VALUE=DATE:20260703
DTEND;VALUE=DATE:20260704
DTSTAMP:20260424T060336
CREATED:20260410T141231Z
LAST-MODIFIED:20260410T141334Z
UID:6255-1783036800-1783123199@twp.fairview.pa.us
SUMMARY:Closed-Observed for July 4th
DESCRIPTION:Township Offices are closed in observation of July 4th.
URL:https://twp.fairview.pa.us/event/closed-observed-for-july-4th/
ATTACH;FMTTYPE=image/png:https://twp.fairview.pa.us/wp-content/uploads/2025/11/logo_2025_F8F8FF.png
END:VEVENT
BEGIN:VEVENT
DTSTART;TZID=America/New_York:20260707T180000
DTEND;TZID=America/New_York:20260707T180000
DTSTAMP:20260424T060336
CREATED:20251223T155155Z
LAST-MODIFIED:20251223T155221Z
UID:5592-1783447200-1783447200@twp.fairview.pa.us
SUMMARY:Planning Commission Meeting
DESCRIPTION:Planning Commission Meeting starts at 6:00pm.
URL:https://twp.fairview.pa.us/event/planning-commission-meeting-10/
ATTACH;FMTTYPE=image/png:https://twp.fairview.pa.us/wp-content/uploads/2025/11/logo_2025_F8F8FF.png
END:VEVENT
BEGIN:VEVENT
DTSTART;TZID=America/New_York:20260716T180000
DTEND;TZID=America/New_York:20260716T180000
DTSTAMP:20260424T060336
CREATED:20251223T155419Z
LAST-MODIFIED:20251223T155419Z
UID:5597-1784224800-1784224800@twp.fairview.pa.us
SUMMARY:Zoning Hearing Board Meeting
DESCRIPTION:Zoning Hearing Board Meeting starts at 6:00pm.
URL:https://twp.fairview.pa.us/event/zoning-hearing-board-meeting-9/
ATTACH;FMTTYPE=image/png:https://twp.fairview.pa.us/wp-content/uploads/2025/11/logo_2025_F8F8FF.png
END:VEVENT
BEGIN:VEVENT
DTSTART;TZID=America/New_York:20260720T183000
DTEND;TZID=America/New_York:20260720T183000
DTSTAMP:20260424T060336
CREATED:20260115T210426Z
LAST-MODIFIED:20260115T211245Z
UID:5699-1784572200-1784572200@twp.fairview.pa.us
SUMMARY:Recreation Meeting
DESCRIPTION:Recreation Meeting starts at 6:30pm.
URL:https://twp.fairview.pa.us/event/recreation-meeting-7/
ATTACH;FMTTYPE=image/png:https://twp.fairview.pa.us/wp-content/uploads/2025/11/logo_2025_F8F8FF.png
END:VEVENT
BEGIN:VEVENT
DTSTART;TZID=America/New_York:20260721T093000
DTEND;TZID=America/New_York:20260721T093000
DTSTAMP:20260424T060336
CREATED:20251223T155327Z
LAST-MODIFIED:20251223T155327Z
UID:5595-1784626200-1784626200@twp.fairview.pa.us
SUMMARY:Planning Commission Workshop Meeting
DESCRIPTION:Planning Commission Workshop Meeting starts at 9:30am.
URL:https://twp.fairview.pa.us/event/planning-commission-workshop-meeting-10/
ATTACH;FMTTYPE=image/png:https://twp.fairview.pa.us/wp-content/uploads/2025/11/logo_2025_F8F8FF.png
END:VEVENT
BEGIN:VEVENT
DTSTART;TZID=America/New_York:20260727T180000
DTEND;TZID=America/New_York:20260727T180000
DTSTAMP:20260424T060336
CREATED:20251110T174259Z
LAST-MODIFIED:20251110T174259Z
UID:4555-1785175200-1785175200@twp.fairview.pa.us
SUMMARY:Board of Supervisors Meeting
DESCRIPTION:Board of Supervisors Meeting – Starts at 6:00pm
URL:https://twp.fairview.pa.us/event/board-of-supervisors-meeting-8/
ATTACH;FMTTYPE=image/png:https://twp.fairview.pa.us/wp-content/uploads/2025/11/logo_2025_F8F8FF.png
END:VEVENT
BEGIN:VEVENT
DTSTART;TZID=America/New_York:20260805T180000
DTEND;TZID=America/New_York:20260805T180000
DTSTAMP:20260424T060336
CREATED:20251223T155513Z
LAST-MODIFIED:20251223T155513Z
UID:5599-1785952800-1785952800@twp.fairview.pa.us
SUMMARY:Planning Commission Meeting
DESCRIPTION:Planning Commission Meeting starts at 6:00pm.
URL:https://twp.fairview.pa.us/event/planning-commission-meeting-11/
ATTACH;FMTTYPE=image/png:https://twp.fairview.pa.us/wp-content/uploads/2025/11/logo_2025_F8F8FF.png
END:VEVENT
BEGIN:VEVENT
DTSTART;TZID=America/New_York:20260817T183000
DTEND;TZID=America/New_York:20260817T183000
DTSTAMP:20260424T060336
CREATED:20260115T210453Z
LAST-MODIFIED:20260115T211140Z
UID:5701-1786991400-1786991400@twp.fairview.pa.us
SUMMARY:Recreation Meeting
DESCRIPTION:Recreation Meeting starts at 6:30pm.
URL:https://twp.fairview.pa.us/event/recreation-meeting-8/
ATTACH;FMTTYPE=image/png:https://twp.fairview.pa.us/wp-content/uploads/2025/11/logo_2025_F8F8FF.png
END:VEVENT
BEGIN:VEVENT
DTSTART;TZID=America/New_York:20260818T093000
DTEND;TZID=America/New_York:20260818T093000
DTSTAMP:20260424T060336
CREATED:20251223T155559Z
LAST-MODIFIED:20251223T155559Z
UID:5601-1787045400-1787045400@twp.fairview.pa.us
SUMMARY:Planning Commission Workshop Meeting
DESCRIPTION:Planning Commission Workshop Meeting starts at 9:30am.
URL:https://twp.fairview.pa.us/event/planning-commission-workshop-meeting-11/
ATTACH;FMTTYPE=image/png:https://twp.fairview.pa.us/wp-content/uploads/2025/11/logo_2025_F8F8FF.png
END:VEVENT
BEGIN:VEVENT
DTSTART;TZID=America/New_York:20260820T180000
DTEND;TZID=America/New_York:20260820T180000
DTSTAMP:20260424T060336
CREATED:20251223T155650Z
LAST-MODIFIED:20251223T155650Z
UID:5603-1787248800-1787248800@twp.fairview.pa.us
SUMMARY:Zoning Hearing Board Meeting
DESCRIPTION:Zoning Hearing Board Meeting starts at 6:00pm.
URL:https://twp.fairview.pa.us/event/zoning-hearing-board-meeting-10/
ATTACH;FMTTYPE=image/png:https://twp.fairview.pa.us/wp-content/uploads/2025/11/logo_2025_F8F8FF.png
END:VEVENT
BEGIN:VEVENT
DTSTART;TZID=America/New_York:20260831T180000
DTEND;TZID=America/New_York:20260831T180000
DTSTAMP:20260424T060336
CREATED:20251110T174409Z
LAST-MODIFIED:20251110T174409Z
UID:4557-1788199200-1788199200@twp.fairview.pa.us
SUMMARY:Board of Supervisors Meeting
DESCRIPTION:Board of Supervisors Meeting – Starts at 6:00pm
URL:https://twp.fairview.pa.us/event/board-of-supervisors-meeting-9/
ATTACH;FMTTYPE=image/png:https://twp.fairview.pa.us/wp-content/uploads/2025/11/logo_2025_F8F8FF.png
END:VEVENT
BEGIN:VEVENT
DTSTART;TZID=America/New_York:20260901T180000
DTEND;TZID=America/New_York:20260901T180000
DTSTAMP:20260424T060336
CREATED:20251223T155855Z
LAST-MODIFIED:20251223T155855Z
UID:5605-1788285600-1788285600@twp.fairview.pa.us
SUMMARY:Planning Commission Meeting
DESCRIPTION:Planning Commission Meeting starts at 6:00pm.
URL:https://twp.fairview.pa.us/event/planning-commission-meeting-12/
ATTACH;FMTTYPE=image/png:https://twp.fairview.pa.us/wp-content/uploads/2025/11/logo_2025_F8F8FF.png
END:VEVENT
BEGIN:VEVENT
DTSTART;VALUE=DATE:20260907
DTEND;VALUE=DATE:20260908
DTSTAMP:20260424T060336
CREATED:20260410T141416Z
LAST-MODIFIED:20260410T141416Z
UID:6258-1788739200-1788825599@twp.fairview.pa.us
SUMMARY:Closed- Labor Day
DESCRIPTION:Township Offices are closed for Labor Day.
URL:https://twp.fairview.pa.us/event/closed-labor-day/
ATTACH;FMTTYPE=image/png:https://twp.fairview.pa.us/wp-content/uploads/2025/11/logo_2025_F8F8FF.png
END:VEVENT
BEGIN:VEVENT
DTSTART;TZID=America/New_York:20260917T180000
DTEND;TZID=America/New_York:20260917T180000
DTSTAMP:20260424T060336
CREATED:20251223T160135Z
LAST-MODIFIED:20251223T160135Z
UID:5609-1789668000-1789668000@twp.fairview.pa.us
SUMMARY:Zoning Hearing Board Meeting
DESCRIPTION:Zoning Hearing Board Meeting starts at 6:00pm.
URL:https://twp.fairview.pa.us/event/zoning-hearing-board-meeting-11/
ATTACH;FMTTYPE=image/png:https://twp.fairview.pa.us/wp-content/uploads/2025/11/logo_2025_F8F8FF.png
END:VEVENT
BEGIN:VEVENT
DTSTART;TZID=America/New_York:20260921T183000
DTEND;TZID=America/New_York:20260921T183000
DTSTAMP:20260424T060336
CREATED:20260115T210551Z
LAST-MODIFIED:20260115T211121Z
UID:5703-1790015400-1790015400@twp.fairview.pa.us
SUMMARY:Recreation Meeting
DESCRIPTION:Recreation Meeting starts at 6:30pm.
URL:https://twp.fairview.pa.us/event/recreation-meeting-9/
ATTACH;FMTTYPE=image/png:https://twp.fairview.pa.us/wp-content/uploads/2025/11/logo_2025_F8F8FF.png
END:VEVENT
BEGIN:VEVENT
DTSTART;TZID=America/New_York:20260922T093000
DTEND;TZID=America/New_York:20260922T093000
DTSTAMP:20260424T060336
CREATED:20251223T155943Z
LAST-MODIFIED:20251223T155943Z
UID:5607-1790069400-1790069400@twp.fairview.pa.us
SUMMARY:Planning Commission Workshop Meeting
DESCRIPTION:Planning Commission Workshop Meeting starts at 9:30am.
URL:https://twp.fairview.pa.us/event/planning-commission-workshop-meeting-12/
ATTACH;FMTTYPE=image/png:https://twp.fairview.pa.us/wp-content/uploads/2025/11/logo_2025_F8F8FF.png
END:VEVENT
BEGIN:VEVENT
DTSTART;TZID=America/New_York:20260928T180000
DTEND;TZID=America/New_York:20260928T180000
DTSTAMP:20260424T060336
CREATED:20251110T174522Z
LAST-MODIFIED:20251110T174522Z
UID:4559-1790618400-1790618400@twp.fairview.pa.us
SUMMARY:Board of Supervisors Meeting
DESCRIPTION:Board of Supervisors Meeting – Starts at 6:00pm
URL:https://twp.fairview.pa.us/event/board-of-supervisors-meeting-10/
ATTACH;FMTTYPE=image/png:https://twp.fairview.pa.us/wp-content/uploads/2025/11/logo_2025_F8F8FF.png
END:VEVENT
END:VCALENDAR